BEGIN:VCALENDAR
VERSION:2.0
PRODID:-//British Iron Touring Club NWA - ECPv6.15.19//NONSGML v1.0//EN
CALSCALE:GREGORIAN
METHOD:PUBLISH
X-WR-CALNAME:British Iron Touring Club NWA
X-ORIGINAL-URL:https://britishironnwa.org
X-WR-CALDESC:Events for British Iron Touring Club NWA
REFRESH-INTERVAL;VALUE=DURATION:PT1H
X-Robots-Tag:noindex
X-PUBLISHED-TTL:PT1H
BEGIN:VTIMEZONE
TZID:America/Chicago
BEGIN:DAYLIGHT
TZOFFSETFROM:-0600
TZOFFSETTO:-0500
TZNAME:CDT
DTSTART:20230312T080000
END:DAYLIGHT
BEGIN:STANDARD
TZOFFSETFROM:-0500
TZOFFSETTO:-0600
TZNAME:CST
DTSTART:20231105T070000
END:STANDARD
BEGIN:DAYLIGHT
TZOFFSETFROM:-0600
TZOFFSETTO:-0500
TZNAME:CDT
DTSTART:20240310T080000
END:DAYLIGHT
BEGIN:STANDARD
TZOFFSETFROM:-0500
TZOFFSETTO:-0600
TZNAME:CST
DTSTART:20241103T070000
END:STANDARD
BEGIN:DAYLIGHT
TZOFFSETFROM:-0600
TZOFFSETTO:-0500
TZNAME:CDT
DTSTART:20250309T080000
END:DAYLIGHT
BEGIN:STANDARD
TZOFFSETFROM:-0500
TZOFFSETTO:-0600
TZNAME:CST
DTSTART:20251102T070000
END:STANDARD
END:VTIMEZONE
BEGIN:VEVENT
DTSTART;VALUE=DATE:20241004
DTEND;VALUE=DATE:20241007
DTSTAMP:20260424T082603
CREATED:20240925T031148Z
LAST-MODIFIED:20250606T005907Z
UID:460-1728000000-1728259199@britishironnwa.org
SUMMARY:CVAR with MINIs – Thunder on the Cimarron XXIII
DESCRIPTION:At Hallett Motor Racing Circuit\, Jennings\, OK: \n\nCan-Am Mini Cooper Challenge Series\nThe Fastest Mini in the World Race\nFormula Ford Feature Race\nAll Closed-Wheel Car Enduro\n\nCALL OFFICE @ 918-356-4814 FOR GATE HOURS/ADMISSION.
URL:https://britishironnwa.org/event/cvar-with-minis-thunder-on-the-cimarron-xxiii/
LOCATION:Hallett Motor Racing Circuit\, 59901 E 5500 Rd\, Jennings\, OK\, 74038\, United States
CATEGORIES:Community
END:VEVENT
BEGIN:VEVENT
DTSTART;TZID=America/Chicago:20240928T110000
DTEND;TZID=America/Chicago:20240928T140000
DTSTAMP:20260424T082603
CREATED:20240925T025329Z
LAST-MODIFIED:20250606T005937Z
UID:454-1727521200-1727532000@britishironnwa.org
SUMMARY:Lost Bridge Village 18th Annual Jesse Harvey Fly In
DESCRIPTION:Fly-in or Drive-in to one of NW Arkansas’ most unique and scenic landing strips on beautiful Beaver Lake!\nDate: Saturday\, September 28th\, 2024Time: 11:00am – 2:00pmAddress: Lost Bridge Village Airstrip\, 10295 E Airport Garfield\, ARCoordinates: 40AR CTAF frequency is 122.9**Airport Details available on AirNav**\nBring your planes\, classics\, tractors\, or any prized possessionHamburgers\, Hotdogs\, Chips\, and DrinksLive Music by The Second Wind BandKids Face Painting and ActivitiesCovered Seating Available\nVisit lbvca.com for updated event information
URL:https://britishironnwa.org/event/lost-bridge-village-18th-annual-jesse-harvey-fly-in/
LOCATION:Lost Bridge Village Airstrip\, 10295 E Airport Dr\, Garfield\, AR\, 72732\, United States
CATEGORIES:Community
END:VEVENT
BEGIN:VEVENT
DTSTART;TZID=America/Chicago:20240928T090000
DTEND;TZID=America/Chicago:20240928T130000
DTSTAMP:20260424T082603
CREATED:20240925T024135Z
LAST-MODIFIED:20250606T010032Z
UID:449-1727514000-1727528400@britishironnwa.org
SUMMARY:Heritage Car Show
DESCRIPTION:Saturday\, Sept. 28\, 9 a.m. – 1 p.m.\n1114 S. 5th St\, Rogers (Corner of 5th and Oak)\nFor cars of all types/ages\nEntry fee: $25\nPresented by Old Town Auto Body\nLive music\, food\, prizes & more!\nAutomotive Lab open house\nSponsorships available\nHeritage High School Booster Club fundraiser; all proceeds go directly to students\nQuestions? wareagleboosters@gmail.com\, Brian Jackson: 479-256-0289\nRegistration\, sponsorships: https://secure.lglforms.com/form_engine/s/tNaAwHrYyeQ55SaWH8s
URL:https://britishironnwa.org/event/heritage-car-show/
LOCATION:Rogers Heritage High School\, 1114 S 5th St\, Rogers\, AR\, 72756
CATEGORIES:Community
END:VEVENT
BEGIN:VEVENT
DTSTART;VALUE=DATE:20240708
DTEND;VALUE=DATE:20240714
DTSTAMP:20260424T082603
CREATED:20240411T020224Z
LAST-MODIFIED:20250609T012110Z
UID:130-1720396800-1720915199@britishironnwa.org
SUMMARY:British V8 2024
DESCRIPTION:British V8 gathering in Springdale\, different activities each day – all are welcome including 4 and 6 cylinder cars.
URL:https://britishironnwa.org/event/british-v8-2024/
LOCATION:Springdale\, AR\, Springdale\, AR\, United States
CATEGORIES:Community
END:VEVENT
BEGIN:VEVENT
DTSTART;TZID=America/Chicago:20240629T073000
DTEND;TZID=America/Chicago:20240629T150000
DTSTAMP:20260424T082603
CREATED:20240625T143436Z
LAST-MODIFIED:20250609T012127Z
UID:252-1719646200-1719673200@britishironnwa.org
SUMMARY:Club Drive to GOBMC Car Show
DESCRIPTION:We will have a drive up to Springfield for the annual GOBMC all British car show Saturday morning.  We will meet at the parking lot behind 7 Brew at the intersection of N. 2nd Street and Hwy 62 in NE Rogers.  Gather early as we will depart at 7:30.  This will help us beat the heat a little and get there by 9:30. \nIt is usually a good event so let’s turnout and support them.
URL:https://britishironnwa.org/event/club-drive-to-gobmc-car-show/
LOCATION:7-Brew parking lot\, NE Rogers\, 2503 N 2nd St\, Rogers\, AR\, 72756\, United States
CATEGORIES:Community
END:VEVENT
BEGIN:VEVENT
DTSTART;VALUE=DATE:20240531
DTEND;VALUE=DATE:20240602
DTSTAMP:20260424T082603
CREATED:20240411T021650Z
LAST-MODIFIED:20250606T010132Z
UID:137-1717113600-1717286399@britishironnwa.org
SUMMARY:EuMoEx 2024
DESCRIPTION:Euro-Expo Car Show 2024 organized by the Jaguar Club of Tulsa.
URL:https://britishironnwa.org/event/eumoex-2024/
LOCATION:Case Community Park\, Sand Springs\, OK\, 2500 S River City Park Road\, Sand Springs\, OK\, 74063\, United States
CATEGORIES:Community
END:VEVENT
END:VCALENDAR