BEGIN:VCALENDAR
VERSION:2.0
PRODID:-//British Iron Touring Club NWA - ECPv6.15.19//NONSGML v1.0//EN
CALSCALE:GREGORIAN
METHOD:PUBLISH
X-ORIGINAL-URL:https://britishironnwa.org
X-WR-CALDESC:Events for British Iron Touring Club NWA
REFRESH-INTERVAL;VALUE=DURATION:PT1H
X-Robots-Tag:noindex
X-PUBLISHED-TTL:PT1H
BEGIN:VTIMEZONE
TZID:America/Chicago
BEGIN:DAYLIGHT
TZOFFSETFROM:-0600
TZOFFSETTO:-0500
TZNAME:CDT
DTSTART:20230312T080000
END:DAYLIGHT
BEGIN:STANDARD
TZOFFSETFROM:-0500
TZOFFSETTO:-0600
TZNAME:CST
DTSTART:20231105T070000
END:STANDARD
BEGIN:DAYLIGHT
TZOFFSETFROM:-0600
TZOFFSETTO:-0500
TZNAME:CDT
DTSTART:20240310T080000
END:DAYLIGHT
BEGIN:STANDARD
TZOFFSETFROM:-0500
TZOFFSETTO:-0600
TZNAME:CST
DTSTART:20241103T070000
END:STANDARD
BEGIN:DAYLIGHT
TZOFFSETFROM:-0600
TZOFFSETTO:-0500
TZNAME:CDT
DTSTART:20250309T080000
END:DAYLIGHT
BEGIN:STANDARD
TZOFFSETFROM:-0500
TZOFFSETTO:-0600
TZNAME:CST
DTSTART:20251102T070000
END:STANDARD
BEGIN:DAYLIGHT
TZOFFSETFROM:-0600
TZOFFSETTO:-0500
TZNAME:CDT
DTSTART:20260308T080000
END:DAYLIGHT
BEGIN:STANDARD
TZOFFSETFROM:-0500
TZOFFSETTO:-0600
TZNAME:CST
DTSTART:20261101T070000
END:STANDARD
END:VTIMEZONE
BEGIN:VEVENT
DTSTART;TZID=America/Chicago:20251107T080000
DTEND;TZID=America/Chicago:20251109T170000
DTSTAMP:20260424T065018
CREATED:20250611T013818Z
LAST-MODIFIED:20250611T013856Z
UID:1227-1762502400-1762707600@britishironnwa.org
SUMMARY:Mount Magazine Fall Retreat
DESCRIPTION:4th Annual Fall Retreat.\nA unique gathering of different car clubs and friends of British Iron Car Club where members can meet and enjoy comradery and fellowship\, while driving their favorite automobiles\, eating great food\, seeing great sights\, all while taking in the beautiful mountains and winding roads of Arkansas.
URL:https://britishironnwa.org/event/mount-magazine-fall-retreat/
LOCATION:AR
CATEGORIES:Club,Community
END:VEVENT
BEGIN:VEVENT
DTSTART;TZID=America/Chicago:20251102T160000
DTEND;TZID=America/Chicago:20251102T200000
DTSTAMP:20260424T065018
CREATED:20251015T002126Z
LAST-MODIFIED:20251031T002341Z
UID:1644-1762099200-1762113600@britishironnwa.org
SUMMARY:NEW DATE: Club Cookout/Show Debrief
DESCRIPTION:Gather for an evening cookout at the club shop. This is a social event to thank you for all the help with another successful car show as well as a quick show debrief and improvement suggestions. \nContact club leadership for directions if needed.
URL:https://britishironnwa.org/event/club-cookout-show-debrief/
LOCATION:AR
CATEGORIES:Club
END:VEVENT
BEGIN:VEVENT
DTSTART;TZID=America/Chicago:20250914T160000
DTEND;TZID=America/Chicago:20250914T193000
DTSTAMP:20260424T065018
CREATED:20250809T211913Z
LAST-MODIFIED:20250809T211935Z
UID:1449-1757865600-1757878200@britishironnwa.org
SUMMARY:Car Show Working Session
DESCRIPTION:All hands on deck for club members to come together and get everything ready for the 2025 show. Refer to email for location details.
URL:https://britishironnwa.org/event/car-show-working-session/
LOCATION:AR
CATEGORIES:Club
END:VEVENT
BEGIN:VEVENT
DTSTART;VALUE=DATE:20250712
DTEND;VALUE=DATE:20250713
DTSTAMP:20260424T065018
CREATED:20240411T005815Z
LAST-MODIFIED:20250609T011852Z
UID:106-1752278400-1752364799@britishironnwa.org
SUMMARY:Drive to Talequah for lunch at Sam ‘n Ella’s Chicken Palace
DESCRIPTION:More details to be announced later.
URL:https://britishironnwa.org/event/drive-to-talequah-for-lunch-at-sam-n-ellas-chicken-palace/
LOCATION:419 N Muskogee Ave. Tahlequah\, OK 74464\, 419 N Muskogee Ave.\, Tahlequah\, OK\, 74464\, United States
CATEGORIES:Club
END:VEVENT
BEGIN:VEVENT
DTSTART;TZID=America/Chicago:20250517T080000
DTEND;TZID=America/Chicago:20250517T170000
DTSTAMP:20260424T065018
CREATED:20250219T032037Z
LAST-MODIFIED:20250609T011926Z
UID:520-1747468800-1747501200@britishironnwa.org
SUMMARY:Jasper Lunch Run
DESCRIPTION:Lunch run to the Ozark Cafe\, Jasper.
URL:https://britishironnwa.org/event/jasper-lunch-run/
LOCATION:AR
CATEGORIES:Club
END:VEVENT
BEGIN:VEVENT
DTSTART;VALUE=DATE:20241025
DTEND;VALUE=DATE:20241028
DTSTAMP:20260424T065018
CREATED:20240411T023151Z
LAST-MODIFIED:20250609T012011Z
UID:147-1729814400-1730073599@britishironnwa.org
SUMMARY:The Mountain Home Fall Retreat
DESCRIPTION:Greg Bunch has arranged another 3-day extravaganza of touring and eating\, this year based out of Mountain Home in our gorgeous Ozarks. Destinations include: \n\nOzark Café in Jasper\nFred’s Fish House in Mountain Home\nNorfork National Fish Hatchery in Mountain Home\nThe Arkansas Bean Festival and Outhouse Races in Mountain View\nThe Grill at Whispering Woods in Jordan\nRapp’s Barren Brewing Company in Mountain Home\nBlanchard Springs Caverns\nMarketplace Grill in Springdale\n\nA splendid time is guaranteed for all! \nClick here for the full event flyer and info. You will need to contact Greg immediately if you plan on attending (contact info in flyer).
URL:https://britishironnwa.org/event/gregs-north-arkansas-tour/
LOCATION:AmericInn by Wyndham\, Mountain Home\, 290 Drillers Rd\, Mountain Home\, AR\, 72653\, United States
CATEGORIES:Club,Community
END:VEVENT
BEGIN:VEVENT
DTSTART;TZID=America/Chicago:20241004T180000
DTEND;TZID=America/Chicago:20241004T203000
DTSTAMP:20260424T065018
CREATED:20240925T030507Z
LAST-MODIFIED:20250609T012036Z
UID:458-1728064800-1728073800@britishironnwa.org
SUMMARY:Brit Stop Cookout
DESCRIPTION:Cookout at our Brit Stop at 6:00 PM on Friday\, October 4th. The club will provide burgers\, chips\, beer and water.  If you want something more to eat or drink please feel free to bring it. \nWe will do a little post-BITO work breaking down the leftover goody bags. \nCome and join us!
URL:https://britishironnwa.org/event/brit-stop-cookout/
LOCATION:AR
CATEGORIES:Club
END:VEVENT
BEGIN:VEVENT
DTSTART;TZID=America/Chicago:20240420T100000
DTEND;TZID=America/Chicago:20240420T150000
DTSTAMP:20260424T065018
CREATED:20240411T005326Z
LAST-MODIFIED:20250609T012141Z
UID:103-1713607200-1713625200@britishironnwa.org
SUMMARY:Drive to U.S. Marshal's Museum\, Fort Smith
DESCRIPTION:Our plans for a drive Saturday have changed.  We will now be traveling to Ft. Smith and the U.S. Marshal’s Museum instead of Oark. \nArrive at the Holiday Inn convention center parking lot at the corner of 412 and 48th St. in Springdale WITH A FULL TANK OF GAS at 9:45 am for a 10:00 am departure. \nThe chance for some rain at this moment is 30% to 40%. If you are worried about driving your British car in the rain\, just bring your daily driver. I may be leading in my White F-150. \nHere are turn-by-turn directions to our first stop in Ft. Smith at the Bricktown Brewery for lunch. \nThe Museum is only about six blocks away from the Brewery. After touring the Museum\, we will reverse course back home. If you prefer\, you can just take I-40 & I-49 back home. \nThis should be a fun and interesting trip that we should all enjoy and have a good time together. This rout is designed so that we don’t have to drive on the Interstate highways. We will be going Standard highway speeds (60 – 70 MPH). I anticipate two hours to Ft. Smith an hour and a half for lunch\, two hours at the Museum and two hours driving back home arriving about 5:30 ish. If you are planning to attend\, please call or text me and let me know so I can call the restaurant and give them a heads up. \n-Greg Bunch \nIn case you get separated\, the U.S. Marshal’s Museum is at 789 Riverfront Dr\, Fort Smith\, AR 72901.
URL:https://britishironnwa.org/event/drive-to-marshals-museum/
LOCATION:Holiday Inn\, Springdale\, AR\, 1500 S 48th St\, Springdale\, AR\, 72762\, United States
CATEGORIES:Club
END:VEVENT
END:VCALENDAR