BEGIN:VCALENDAR
VERSION:2.0
PRODID:-//British Iron Touring Club NWA - ECPv6.15.19//NONSGML v1.0//EN
CALSCALE:GREGORIAN
METHOD:PUBLISH
X-ORIGINAL-URL:https://britishironnwa.org
X-WR-CALDESC:Events for British Iron Touring Club NWA
REFRESH-INTERVAL;VALUE=DURATION:PT1H
X-Robots-Tag:noindex
X-PUBLISHED-TTL:PT1H
BEGIN:VTIMEZONE
TZID:America/Chicago
BEGIN:DAYLIGHT
TZOFFSETFROM:-0600
TZOFFSETTO:-0500
TZNAME:CDT
DTSTART:20250309T080000
END:DAYLIGHT
BEGIN:STANDARD
TZOFFSETFROM:-0500
TZOFFSETTO:-0600
TZNAME:CST
DTSTART:20251102T070000
END:STANDARD
BEGIN:DAYLIGHT
TZOFFSETFROM:-0600
TZOFFSETTO:-0500
TZNAME:CDT
DTSTART:20260308T080000
END:DAYLIGHT
BEGIN:STANDARD
TZOFFSETFROM:-0500
TZOFFSETTO:-0600
TZNAME:CST
DTSTART:20261101T070000
END:STANDARD
BEGIN:DAYLIGHT
TZOFFSETFROM:-0600
TZOFFSETTO:-0500
TZNAME:CDT
DTSTART:20270314T080000
END:DAYLIGHT
BEGIN:STANDARD
TZOFFSETFROM:-0500
TZOFFSETTO:-0600
TZNAME:CST
DTSTART:20271107T070000
END:STANDARD
END:VTIMEZONE
BEGIN:VEVENT
DTSTART;TZID=America/Chicago:20260418T083000
DTEND;TZID=America/Chicago:20260418T100000
DTSTAMP:20260424T064240
CREATED:20260323T175809Z
LAST-MODIFIED:20260417T020348Z
UID:1961-1776501000-1776506400@britishironnwa.org
SUMMARY:Drive to Cedarville Car Show
DESCRIPTION:Club meeting before for optional drive down to Cedarville Car Show: https://britishironnwa.org/event/cedarville-car-show/ \nWhen: Departure 8:30am sharp\nWhere: Starting drive from Kessler Mountain Park Playground \nRSVP by April 16th \nPlease enable JavaScript in your browser to complete this form.Please enable JavaScript in your browser to complete this form.		\n			guests you bringing?\n			\n		\n		Name *FirstLastEmail *How many additional guests are you bringing?None\, just me.+1+2+3+4Submit  \n 
URL:https://britishironnwa.org/event/drive-to-cedarville-car-show/
LOCATION:Kessler Mountain Park Playground\, 2710 Wc 200\, Fayetteville\, AR\, 72701\, United States
CATEGORIES:Club
END:VEVENT
BEGIN:VEVENT
DTSTART;TZID=America/Chicago:20260418T100000
DTEND;TZID=America/Chicago:20260418T150000
DTSTAMP:20260424T064240
CREATED:20260323T175409Z
LAST-MODIFIED:20260324T014401Z
UID:1959-1776506400-1776524400@britishironnwa.org
SUMMARY:Cedarville Car Show
DESCRIPTION:Club drive to show: \nRegistration in person only. Open 8-10am. \nEvent Flyer:\nhttps://www.facebook.com/groups/279796259624249/posts/1945607883043070/
URL:https://britishironnwa.org/event/cedarville-car-show/
LOCATION:Cedarville City Park\, 301 Hwy 162\, Cedarville\, AR\, United States
CATEGORIES:Club,Community
END:VEVENT
END:VCALENDAR