BEGIN:VCALENDAR
VERSION:2.0
PRODID:-//British Iron Touring Club NWA - ECPv6.15.19//NONSGML v1.0//EN
CALSCALE:GREGORIAN
METHOD:PUBLISH
X-WR-CALNAME:British Iron Touring Club NWA
X-ORIGINAL-URL:https://britishironnwa.org
X-WR-CALDESC:Events for British Iron Touring Club NWA
REFRESH-INTERVAL;VALUE=DURATION:PT1H
X-Robots-Tag:noindex
X-PUBLISHED-TTL:PT1H
BEGIN:VTIMEZONE
TZID:America/Chicago
BEGIN:DAYLIGHT
TZOFFSETFROM:-0600
TZOFFSETTO:-0500
TZNAME:CDT
DTSTART:20250309T080000
END:DAYLIGHT
BEGIN:STANDARD
TZOFFSETFROM:-0500
TZOFFSETTO:-0600
TZNAME:CST
DTSTART:20251102T070000
END:STANDARD
BEGIN:DAYLIGHT
TZOFFSETFROM:-0600
TZOFFSETTO:-0500
TZNAME:CDT
DTSTART:20260308T080000
END:DAYLIGHT
BEGIN:STANDARD
TZOFFSETFROM:-0500
TZOFFSETTO:-0600
TZNAME:CST
DTSTART:20261101T070000
END:STANDARD
BEGIN:DAYLIGHT
TZOFFSETFROM:-0600
TZOFFSETTO:-0500
TZNAME:CDT
DTSTART:20270314T080000
END:DAYLIGHT
BEGIN:STANDARD
TZOFFSETFROM:-0500
TZOFFSETTO:-0600
TZNAME:CST
DTSTART:20271107T070000
END:STANDARD
END:VTIMEZONE
BEGIN:VEVENT
DTSTART;TZID=America/Chicago:20260627T100000
DTEND;TZID=America/Chicago:20260627T153000
DTSTAMP:20260421T062405
CREATED:20240411T015313Z
LAST-MODIFIED:20260407T015212Z
UID:121-1782554400-1782574200@britishironnwa.org
SUMMARY:GOBMC Car Show
DESCRIPTION:The 24th annual Greater Ozarks British Motoring Club (GOBMC) Car Show\, Brits at the Post\, will be held June 27th at the American Legion Post 639  located at 2660 S. Scenic Ave.\, Springfield\, MO. \nEvent flyer:\nhttps://britishironnwa.org/wp-content/uploads/2026/04/Car-Show-Flyer-2026-FINAL.pdf \nVisit GOBMC’s website for more information and to register:\nhttps://gobmc.org/carshow \nTailgate Party on June 26th at the Best Western – Route 66 Rail Haven\,\n203 S. Glenstone Ave\, Springfield\, MO 65802.
URL:https://britishironnwa.org/event/gobmc-car-show/
LOCATION:2660 S. Scenic Ave.\, Springfield\, MO\, 2660 S. Scenic Ave\, Springfield\, MO\, United States
CATEGORIES:Community
END:VEVENT
END:VCALENDAR